1.52792294460512
0.00000000000000
0.00000000000000
-1.52792294460512
-314718.16264070110628
115756.99064366897801
