1.52745778981136
0.00000000000000
0.00000000000000
-1.52745778981136
-283696.64179218112258
72986.60499917391280
