1.52862788619374
0.00000000000000
0.00000000000000
-1.52862788619374
-315412.29091487574624
101874.67590378550813
