1.52796902710691
0.00000000000000
0.00000000000000
-1.52796902710691
-293592.36666322045494
101015.74240592817659
