1.52687371559917
0.00000000000000
0.00000000000000
-1.52687371559917
-304408.77075489150593
101393.97396919831226
