1.52766928812403
0.00000000000000
0.00000000000000
-1.52766928812403
-292989.51073932769941
114920.91043888316199
