1.52827719865212
0.00000000000000
0.00000000000000
-1.52827719865212
-295148.11894966312684
73335.48881717695622
