1.52823686002451
0.00000000000000
0.00000000000000
-1.52823686002451
-325533.96692331158556
116162.32129286401323
