1.52989508182277
0.00000000000000
0.00000000000000
-1.52989508182277
-326122.23555533104809
102406.36736153853417
