1.52775198957524
0.00000000000000
0.00000000000000
-1.52775198957524
-283299.58843554934720
86890.89493632891390
