1.52740410721384
0.00000000000000
0.00000000000000
-1.52740410721384
-272289.33938859298360
86376.81992504559457
