1.52728749573870
0.00000000000000
0.00000000000000
-1.52728749573870
-282217.38320510869380
114520.05305189297360
