1.52700268468859
0.00000000000000
0.00000000000000
-1.52700268468859
-304020.68584864761215
115544.69184853577462
