1.000000000000000
0.000000000000000
0.000000000000000
-1.000000000000000
554650.000000000000000
4199549.000000000000000
