1.000000000000000
0.000000000000000
0.000000000000000
-1.000000000000000
549050.000000000000000
4220999.500000000000000
