1.000000000000000
0.000000000000000
0.000000000000000
-1.000000000000000
494222.000000000000000
4247849.000000000000000
