1.000000000000000
0.000000000000000
0.000000000000000
-1.000000000000000
538450.000000000000000
4185449.000000000000000
