1.000000000000000
0.000000000000000
0.000000000000000
-1.000000000000000
542316.000000000000000
4188325.000000000000000
