1.000000000000000
0.000000000000000
0.000000000000000
-0.999998000000000
549001.000000000000000
4269299.000001000240445
