1.000000000000000
0.000000000000000
0.000000000000000
-1.000000000000000
450701.000000000000000
4303699.000000000000000
