1.000000000000000
0.000000000000000
0.000000000000000
-1.000000000000000
566313.999918999965303
4151599.500006000045687
