1.000000000000000
0.000000000000000
0.000000000000000
-1.000000000000000
599190.500000000000000
4151886.000000000000000
